{
 "currentVersion": 10.91,
 "serviceDescription": "HurstDEM",
 "name": "HurstDEM",
 "description": "",
 "extent": {
  "xmin": -108240.55374975137,
  "ymin": -843115.8165135281,
  "xmax": -101523.08936426682,
  "ymax": -833251.22840995,
  "spatialReference": {
   "wkid": 102008,
   "latestWkid": 102008
  }
 },
 "initialExtent": {
  "xmin": -108240.55374975137,
  "ymin": -843115.8165135281,
  "xmax": -101523.08936426682,
  "ymax": -833251.22840995,
  "spatialReference": {
   "wkid": 102008,
   "latestWkid": 102008
  }
 },
 "fullExtent": {
  "xmin": -108240.55374975137,
  "ymin": -843115.8165135281,
  "xmax": -101523.08936426682,
  "ymax": -833251.22840995,
  "spatialReference": {
   "wkid": 102008,
   "latestWkid": 102008
  }
 },
 "hasMultidimensions": false,
 "pixelSizeX": 0.9819418777202966,
 "pixelSizeY": 0.9819418777202943,
 "datasetFormat": "FGDBR",
 "uncompressedSize": 274898744,
 "blockWidth": 128,
 "blockHeight": 128,
 "compressionType": "NONE",
 "bandNames": [
  "Band_1"
 ],
 "allowCopy": true,
 "allowAnalysis": true,
 "bandCount": 1,
 "pixelType": "F32",
 "minPixelSize": 0,
 "maxPixelSize": 0,
 "copyrightText": "",
 "serviceDataType": "esriImageServiceDataTypeGeneric",
 "serviceSourceType": "esriImageServiceSourceTypeDataset",
 "minValues": [
  473.3207702636719
 ],
 "maxValues": [
  670.8153686523438
 ],
 "meanValues": [
  572.8851275063004
 ],
 "stdvValues": [
  36.18162368136504
 ],
 "objectIdField": "",
 "fields": [],
 "capabilities": "Image,Metadata,Mensuration",
 "defaultMosaicMethod": "Center",
 "allowedMosaicMethods": "",
 "sortField": "",
 "sortValue": null,
 "sortAscending": true,
 "mosaicOperator": "First",
 "defaultCompressionQuality": 75,
 "defaultResamplingMethod": "Bilinear",
 "maxImageHeight": 4100,
 "maxImageWidth": 15000,
 "allowRasterFunction": true,
 "rasterFunctionInfos": [
  {
   "name": "None",
   "description": "",
   "help": ""
  }
 ],
 "rasterTypeInfos": [
  {
   "name": "Raster Dataset",
   "description": "Supports all ArcGIS Raster Datasets",
   "help": ""
  }
 ],
 "mensurationCapabilities": "Basic",
 "hasHistograms": true,
 "hasColormap": false,
 "hasRasterAttributeTable": false,
 "minScale": 0,
 "maxScale": 0,
 "exportTilesAllowed": false,
 "supportsStatistics": false,
 "supportsAdvancedQueries": false,
 "editFieldsInfo": null,
 "ownershipBasedAccessControlForRasters": null,
 "allowComputeTiePoints": false,
 "useStandardizedQueries": true,
 "advancedQueryCapabilities": {
  "useStandardizedQueries": true,
  "supportsStatistics": false,
  "supportsOrderBy": false,
  "supportsDistinct": false,
  "supportsPagination": false
 },
 "spatialReference": {
  "wkid": 102008,
  "latestWkid": 102008
 }
}
