<?xml version="1.0" encoding="UTF-8" standalone="no"?>
<metadata xml:lang="en">
<Esri>
<CreaDate>20250917</CreaDate>
<CreaTime>10243400</CreaTime>
<ArcGISFormat>1.0</ArcGISFormat>
<SyncOnce>FALSE</SyncOnce>
<DataProperties>
<itemProps>
<itemName Sync="TRUE">GIS.SDE.HurstDEM_2025</itemName>
<itemLocation>
<linkage Sync="TRUE">Server=W2k19-CWESRISQL; Service=sde:sqlserver:W2k19-CWESRISQL; Database=GIS; User=sde; Version=sde.DEFAULT</linkage>
<protocol Sync="TRUE">ArcSDE Connection</protocol>
</itemLocation>
<imsContentType Sync="TRUE">002</imsContentType>
<nativeExtBox>
<westBL Sync="TRUE">2364080.000000</westBL>
<eastBL Sync="TRUE">2387114.000000</eastBL>
<southBL Sync="TRUE">6977895.999667</southBL>
<northBL Sync="TRUE">7009003.999667</northBL>
<exTypeCode Sync="TRUE">1</exTypeCode>
</nativeExtBox>
</itemProps>
<coordRef>
<type Sync="TRUE">Projected</type>
<geogcsn Sync="TRUE">GCS_NAD_1983_2011</geogcsn>
<csUnits Sync="TRUE">Linear Unit: Foot_US (0.304801)</csUnits>
<projcsn Sync="TRUE">NAD_1983_2011_StatePlane_Texas_North_Central_FIPS_4202_FtUS</projcsn>
<peXml Sync="TRUE">&lt;ProjectedCoordinateSystem xsi:type='typens:ProjectedCoordinateSystem' xmlns:xsi='http://www.w3.org/2001/XMLSchema-instance' xmlns:xs='http://www.w3.org/2001/XMLSchema' xmlns:typens='http://www.esri.com/schemas/ArcGIS/2.9.0'&gt;&lt;WKT&gt;PROJCS[&amp;quot;NAD_1983_2011_StatePlane_Texas_North_Central_FIPS_4202_FtUS&amp;quot;,GEOGCS[&amp;quot;GCS_NAD_1983_2011&amp;quot;,DATUM[&amp;quot;D_NAD_1983_2011&amp;quot;,SPHEROID[&amp;quot;GRS_1980&amp;quot;,6378137.0,298.257222101]],PRIMEM[&amp;quot;Greenwich&amp;quot;,0.0],UNIT[&amp;quot;Degree&amp;quot;,0.0174532925199433]],PROJECTION[&amp;quot;Lambert_Conformal_Conic&amp;quot;],PARAMETER[&amp;quot;False_Easting&amp;quot;,1968500.0],PARAMETER[&amp;quot;False_Northing&amp;quot;,6561666.666666666],PARAMETER[&amp;quot;Central_Meridian&amp;quot;,-98.5],PARAMETER[&amp;quot;Standard_Parallel_1&amp;quot;,32.13333333333333],PARAMETER[&amp;quot;Standard_Parallel_2&amp;quot;,33.96666666666667],PARAMETER[&amp;quot;Latitude_Of_Origin&amp;quot;,31.66666666666667],UNIT[&amp;quot;Foot_US&amp;quot;,0.3048006096012192],AUTHORITY[&amp;quot;EPSG&amp;quot;,6584]]&lt;/WKT&gt;&lt;XOrigin&gt;-123407700&lt;/XOrigin&gt;&lt;YOrigin&gt;-86123500&lt;/YOrigin&gt;&lt;XYScale&gt;35920690.11000888&lt;/XYScale&gt;&lt;ZOrigin&gt;-100000&lt;/ZOrigin&gt;&lt;ZScale&gt;10000&lt;/ZScale&gt;&lt;MOrigin&gt;-100000&lt;/MOrigin&gt;&lt;MScale&gt;10000&lt;/MScale&gt;&lt;XYTolerance&gt;0.0032808333333333331&lt;/XYTolerance&gt;&lt;ZTolerance&gt;0.00020000000000000001&lt;/ZTolerance&gt;&lt;MTolerance&gt;0.00020000000000000001&lt;/MTolerance&gt;&lt;HighPrecision&gt;true&lt;/HighPrecision&gt;&lt;WKID&gt;103159&lt;/WKID&gt;&lt;LatestWKID&gt;6584&lt;/LatestWKID&gt;&lt;/ProjectedCoordinateSystem&gt;</peXml>
</coordRef>
<RasterProperties>
<General>
<PixelDepth Sync="TRUE">32</PixelDepth>
<HasColormap Sync="TRUE">FALSE</HasColormap>
<CompressionType Sync="TRUE">RLE</CompressionType>
<NumBands Sync="TRUE">1</NumBands>
<Format Sync="TRUE">IMAGINE Image</Format>
<HasPyramids Sync="TRUE">TRUE</HasPyramids>
<SourceType Sync="TRUE">continuous</SourceType>
<PixelType Sync="TRUE">floating point</PixelType>
<NoDataValue Sync="TRUE">-3.4028235e+38</NoDataValue>
</General>
</RasterProperties>
<lineage>
<Process Date="20250917" Time="102443" ToolSource="c:\program files (x86)\arcgis\desktop10.8\ArcToolbox\Toolboxes\Data Management Tools.tbx\MosaicToNewRaster">MosaicToNewRaster Y:\Darla\NCTCOG_Lidar2025\Hurst\bare_earth\be_rasters\e23647476a.img;Y:\Darla\NCTCOG_Lidar2025\Hurst\bare_earth\be_rasters\e23647478a.img;Y:\Darla\NCTCOG_Lidar2025\Hurst\bare_earth\be_rasters\e23647480a.img;Y:\Darla\NCTCOG_Lidar2025\Hurst\bare_earth\be_rasters\e23647482a.img;Y:\Darla\NCTCOG_Lidar2025\Hurst\bare_earth\be_rasters\e23647484a.img;Y:\Darla\NCTCOG_Lidar2025\Hurst\bare_earth\be_rasters\e23647486a.img;Y:\Darla\NCTCOG_Lidar2025\Hurst\bare_earth\be_rasters\e23647488a.img;Y:\Darla\NCTCOG_Lidar2025\Hurst\bare_earth\be_rasters\e23677478a.img;Y:\Darla\NCTCOG_Lidar2025\Hurst\bare_earth\be_rasters\e23677480a.img;Y:\Darla\NCTCOG_Lidar2025\Hurst\bare_earth\be_rasters\e23677482a.img;Y:\Darla\NCTCOG_Lidar2025\Hurst\bare_earth\be_rasters\e23677484a.img;Y:\Darla\NCTCOG_Lidar2025\Hurst\bare_earth\be_rasters\e23677486a.img;Y:\Darla\NCTCOG_Lidar2025\Hurst\bare_earth\be_rasters\e23677488a.img;Y:\Darla\NCTCOG_Lidar2025\Hurst\bare_earth\be_rasters\e23677490a.img;Y:\Darla\NCTCOG_Lidar2025\Hurst\bare_earth\be_rasters\e23677492a.img;Y:\Darla\NCTCOG_Lidar2025\Hurst\bare_earth\be_rasters\e23677494a.img;Y:\Darla\NCTCOG_Lidar2025\Hurst\bare_earth\be_rasters\e23707478a.img;Y:\Darla\NCTCOG_Lidar2025\Hurst\bare_earth\be_rasters\e23707480a.img;Y:\Darla\NCTCOG_Lidar2025\Hurst\bare_earth\be_rasters\e23707482a.img;Y:\Darla\NCTCOG_Lidar2025\Hurst\bare_earth\be_rasters\e23707484a.img;Y:\Darla\NCTCOG_Lidar2025\Hurst\bare_earth\be_rasters\e23707486a.img;Y:\Darla\NCTCOG_Lidar2025\Hurst\bare_earth\be_rasters\e23707488a.img;Y:\Darla\NCTCOG_Lidar2025\Hurst\bare_earth\be_rasters\e23707490a.img;Y:\Darla\NCTCOG_Lidar2025\Hurst\bare_earth\be_rasters\e23707492a.img;Y:\Darla\NCTCOG_Lidar2025\Hurst\bare_earth\be_rasters\e23707494a.img;Y:\Darla\NCTCOG_Lidar2025\Hurst\bare_earth\be_rasters\e23707496a.img;Y:\Darla\NCTCOG_Lidar2025\Hurst\bare_earth\be_rasters\e23707498a.img;Y:\Darla\NCTCOG_Lidar2025\Hurst\bare_earth\be_rasters\e23707500a.img;Y:\Darla\NCTCOG_Lidar2025\Hurst\bare_earth\be_rasters\e23707502a.img;Y:\Darla\NCTCOG_Lidar2025\Hurst\bare_earth\be_rasters\e23707504a.img;Y:\Darla\NCTCOG_Lidar2025\Hurst\bare_earth\be_rasters\e23707506a.img;Y:\Darla\NCTCOG_Lidar2025\Hurst\bare_earth\be_rasters\e23707508a.img;Y:\Darla\NCTCOG_Lidar2025\Hurst\bare_earth\be_rasters\e23737478a.img;Y:\Darla\NCTCOG_Lidar2025\Hurst\bare_earth\be_rasters\e23737480a.img;Y:\Darla\NCTCOG_Lidar2025\Hurst\bare_earth\be_rasters\e23737482a.img;Y:\Darla\NCTCOG_Lidar2025\Hurst\bare_earth\be_rasters\e23737484a.img;Y:\Darla\NCTCOG_Lidar2025\Hurst\bare_earth\be_rasters\e23737486a.img;Y:\Darla\NCTCOG_Lidar2025\Hurst\bare_earth\be_rasters\e23737488a.img;Y:\Darla\NCTCOG_Lidar2025\Hurst\bare_earth\be_rasters\e23737490a.img;Y:\Darla\NCTCOG_Lidar2025\Hurst\bare_earth\be_rasters\e23737492a.img;Y:\Darla\NCTCOG_Lidar2025\Hurst\bare_earth\be_rasters\e23737494a.img;Y:\Darla\NCTCOG_Lidar2025\Hurst\bare_earth\be_rasters\e23737496a.img;Y:\Darla\NCTCOG_Lidar2025\Hurst\bare_earth\be_rasters\e23737498a.img;Y:\Darla\NCTCOG_Lidar2025\Hurst\bare_earth\be_rasters\e23737500a.img;Y:\Darla\NCTCOG_Lidar2025\Hurst\bare_earth\be_rasters\e23737502a.img;Y:\Darla\NCTCOG_Lidar2025\Hurst\bare_earth\be_rasters\e23737504a.img;Y:\Darla\NCTCOG_Lidar2025\Hurst\bare_earth\be_rasters\e23737506a.img;Y:\Darla\NCTCOG_Lidar2025\Hurst\bare_earth\be_rasters\e23737508a.img;Y:\Darla\NCTCOG_Lidar2025\Hurst\bare_earth\be_rasters\e23767478a.img;Y:\Darla\NCTCOG_Lidar2025\Hurst\bare_earth\be_rasters\e23767480a.img;Y:\Darla\NCTCOG_Lidar2025\Hurst\bare_earth\be_rasters\e23767482a.img;Y:\Darla\NCTCOG_Lidar2025\Hurst\bare_earth\be_rasters\e23767484a.img;Y:\Darla\NCTCOG_Lidar2025\Hurst\bare_earth\be_rasters\e23767486a.img;Y:\Darla\NCTCOG_Lidar2025\Hurst\bare_earth\be_rasters\e23767488a.img;Y:\Darla\NCTCOG_Lidar2025\Hurst\bare_earth\be_rasters\e23767490a.img;Y:\Darla\NCTCOG_Lidar2025\Hurst\bare_earth\be_rasters\e23767492a.img;Y:\Darla\NCTCOG_Lidar2025\Hurst\bare_earth\be_rasters\e23767494a.img;Y:\Darla\NCTCOG_Lidar2025\Hurst\bare_earth\be_rasters\e23767496a.img;Y:\Darla\NCTCOG_Lidar2025\Hurst\bare_earth\be_rasters\e23767498a.img;Y:\Darla\NCTCOG_Lidar2025\Hurst\bare_earth\be_rasters\e23767500a.img;Y:\Darla\NCTCOG_Lidar2025\Hurst\bare_earth\be_rasters\e23767502a.img;Y:\Darla\NCTCOG_Lidar2025\Hurst\bare_earth\be_rasters\e23797478a.img;Y:\Darla\NCTCOG_Lidar2025\Hurst\bare_earth\be_rasters\e23797480a.img;Y:\Darla\NCTCOG_Lidar2025\Hurst\bare_earth\be_rasters\e23797482a.img;Y:\Darla\NCTCOG_Lidar2025\Hurst\bare_earth\be_rasters\e23797484a.img;Y:\Darla\NCTCOG_Lidar2025\Hurst\bare_earth\be_rasters\e23797490a.img;Y:\Darla\NCTCOG_Lidar2025\Hurst\bare_earth\be_rasters\e23797492a.img;Y:\Darla\NCTCOG_Lidar2025\Hurst\bare_earth\be_rasters\e23797494a.img;Y:\Darla\NCTCOG_Lidar2025\Hurst\bare_earth\be_rasters\e23827480a.img;Y:\Darla\NCTCOG_Lidar2025\Hurst\bare_earth\be_rasters\e23827482a.img;Y:\Darla\NCTCOG_Lidar2025\Hurst\bare_earth\be_rasters\e23857480a.img;Y:\Darla\NCTCOG_Lidar2025\Hurst\bare_earth\be_rasters\e23857482a.img Y:\Darla\LiDAR2025 DEM0925.img PROJCS['NAD_1983_2011_StatePlane_Texas_North_Central_FIPS_4202_FtUS',GEOGCS['GCS_NAD_1983_2011',DATUM['D_NAD_1983_2011',SPHEROID['GRS_1980',6378137.0,298.257222101]],PRIMEM['Greenwich',0.0],UNIT['Degree',0.0174532925199433]],PROJECTION['Lambert_Conformal_Conic'],PARAMETER['False_Easting',1968500.0],PARAMETER['False_Northing',6561666.666666666],PARAMETER['Central_Meridian',-98.5],PARAMETER['Standard_Parallel_1',32.13333333333333],PARAMETER['Standard_Parallel_2',33.96666666666667],PARAMETER['Latitude_Of_Origin',31.66666666666667],UNIT['Foot_US',0.3048006096012192]] 32_BIT_FLOAT # 1 LAST FIRST</Process>
<Process Date="20260226" Time="133249" ToolSource="c:\program files\arcgis\pro\Resources\ArcToolbox\toolboxes\Data Management Tools.tbx\CopyRaster">CopyRaster HurstDEM_2025 Y:\Darla\SchemaEdits\SDE_CWESRISQL.sde\GIS.SDE.HurstDEM_2025 # # -3.402823e+38 NONE NONE # NONE NONE "Esri Grid format" NONE CURRENT_SLICE NO_TRANSPOSE</Process>
</lineage>
</DataProperties>
<SyncDate>20260226</SyncDate>
<SyncTime>13320400</SyncTime>
<ModDate>20260226</ModDate>
<ModTime>13320400</ModTime>
</Esri>
<dataIdInfo>
<envirDesc Sync="TRUE">Microsoft Windows 10 Version 10.0 (Build 26200) ; Esri ArcGIS 12.9.12.32739</envirDesc>
<dataLang>
<languageCode Sync="TRUE" value="eng"/>
<countryCode Sync="TRUE" value="USA"/>
</dataLang>
<idCitation>
<resTitle Sync="TRUE">HurstDEM_2025</resTitle>
<presForm>
<PresFormCd Sync="TRUE" value="011"/>
</presForm>
</idCitation>
<spatRpType>
<SpatRepTypCd Sync="TRUE" value="002"/>
</spatRpType>
<dataExt>
<geoEle>
<GeoBndBox esriExtentType="search">
<exTypeCode Sync="TRUE">1</exTypeCode>
<westBL Sync="TRUE">-97.212457</westBL>
<eastBL Sync="TRUE">-97.136179</eastBL>
<northBL Sync="TRUE">32.889586</northBL>
<southBL Sync="TRUE">32.803286</southBL>
</GeoBndBox>
</geoEle>
</dataExt>
<idAbs/>
<searchKeys>
<keyword>Elevation</keyword>
<keyword>DEM</keyword>
</searchKeys>
<idPurp>Digital Elevation Model from 2025 LiDAR</idPurp>
<idCredit/>
<resConst>
<Consts>
<useLimit/>
</Consts>
</resConst>
</dataIdInfo>
<mdLang>
<languageCode Sync="TRUE" value="eng"/>
<countryCode Sync="TRUE" value="USA"/>
</mdLang>
<mdChar>
<CharSetCd Sync="TRUE" value="004"/>
</mdChar>
<distInfo>
<distFormat>
<formatName Sync="TRUE">Enterprise Geodatabase Raster Dataset</formatName>
</distFormat>
</distInfo>
<mdHrLv>
<ScopeCd Sync="TRUE" value="005"/>
</mdHrLv>
<mdHrLvName Sync="TRUE">dataset</mdHrLvName>
<refSysInfo>
<RefSystem>
<refSysID>
<identCode Sync="TRUE" code="6584"/>
<idCodeSpace Sync="TRUE">EPSG</idCodeSpace>
<idVersion Sync="TRUE">8.2.10(10.3.1)</idVersion>
</refSysID>
</RefSystem>
</refSysInfo>
<spatRepInfo>
<Georect>
<cellGeo>
<CellGeoCd Sync="TRUE" value="002"/>
</cellGeo>
<numDims Sync="TRUE">2</numDims>
<tranParaAv Sync="TRUE">1</tranParaAv>
<chkPtAv Sync="TRUE">0</chkPtAv>
<cornerPts>
<pos Sync="TRUE">2364080.000000 6977895.999667</pos>
</cornerPts>
<cornerPts>
<pos Sync="TRUE">2364080.000000 7009003.999667</pos>
</cornerPts>
<cornerPts>
<pos Sync="TRUE">2387114.000000 7009003.999667</pos>
</cornerPts>
<cornerPts>
<pos Sync="TRUE">2387114.000000 6977895.999667</pos>
</cornerPts>
<centerPt>
<pos Sync="TRUE">2375597.000000 6993449.999667</pos>
</centerPt>
<axisDimension type="002">
<dimSize Sync="TRUE">11517</dimSize>
<dimResol>
<value Sync="TRUE" uom="ftUS">2.000000</value>
</dimResol>
</axisDimension>
<axisDimension type="001">
<dimSize Sync="TRUE">15554</dimSize>
<dimResol>
<value Sync="TRUE" uom="ftUS">2.000000</value>
</dimResol>
</axisDimension>
<ptInPixel>
<PixOrientCd Sync="TRUE" value="001"/>
</ptInPixel>
</Georect>
</spatRepInfo>
<contInfo>
<ImgDesc>
<contentTyp>
<ContentTypCd Sync="TRUE" value="001"/>
</contentTyp>
<covDim>
<Band>
<dimDescrp Sync="TRUE">Layer_1</dimDescrp>
<maxVal Sync="TRUE">671.260010</maxVal>
<minVal Sync="TRUE">472.679993</minVal>
<bitsPerVal Sync="TRUE">32</bitsPerVal>
<valUnit>
<UOM type="length"/>
</valUnit>
</Band>
</covDim>
</ImgDesc>
</contInfo>
<mdDateSt Sync="TRUE">20260226</mdDateSt>
<spdoinfo>
<rastinfo>
<rasttype Sync="TRUE">Pixel</rasttype>
<rowcount Sync="TRUE">15554</rowcount>
<colcount Sync="TRUE">11517</colcount>
<rastxsz Sync="TRUE">2.000000</rastxsz>
<rastysz Sync="TRUE">2.000000</rastysz>
<rastbpp Sync="TRUE">32</rastbpp>
<vrtcount Sync="TRUE">1</vrtcount>
<rastorig Sync="TRUE">Upper Left</rastorig>
<rastcmap Sync="TRUE">FALSE</rastcmap>
<rastcomp Sync="TRUE">LZ77</rastcomp>
<rastband Sync="TRUE">1</rastband>
<rastdtyp Sync="TRUE">pixel codes</rastdtyp>
<rastifor Sync="TRUE">SDR</rastifor>
<rastplyr Sync="TRUE">TRUE</rastplyr>
</rastinfo>
</spdoinfo>
<spref>
<horizsys>
<planar>
<planci>
<plance Sync="TRUE">row and column</plance>
<coordrep>
<absres Sync="TRUE">2.000000</absres>
<ordres Sync="TRUE">2.000000</ordres>
</coordrep>
</planci>
</planar>
</horizsys>
</spref>
</metadata>
