{
 "currentVersion": 10.91,
 "serviceDescription": "HurstDEM_2025",
 "name": "HurstDEM_2025",
 "description": "",
 "extent": {
  "xmin": 2364079.999999997,
  "ymin": 6977895.999666689,
  "xmax": 2387113.999999997,
  "ymax": 7009003.999666689,
  "spatialReference": {
   "wkid": 103159,
   "latestWkid": 6584
  }
 },
 "initialExtent": {
  "xmin": 2364079.999999997,
  "ymin": 6977895.999666689,
  "xmax": 2387113.999999997,
  "ymax": 7009003.999666689,
  "spatialReference": {
   "wkid": 103159,
   "latestWkid": 6584
  }
 },
 "fullExtent": {
  "xmin": 2364079.999999997,
  "ymin": 6977895.999666689,
  "xmax": 2387113.999999997,
  "ymax": 7009003.999666689,
  "spatialReference": {
   "wkid": 103159,
   "latestWkid": 6584
  }
 },
 "hasMultidimensions": false,
 "pixelSizeX": 2,
 "pixelSizeY": 2,
 "datasetFormat": "FGDBR",
 "uncompressedSize": 716541672,
 "blockWidth": 128,
 "blockHeight": 128,
 "compressionType": "LZ77",
 "bandNames": [
  "Band_1"
 ],
 "allowCopy": true,
 "allowAnalysis": true,
 "bandCount": 1,
 "pixelType": "F32",
 "minPixelSize": 0,
 "maxPixelSize": 0,
 "copyrightText": "",
 "serviceDataType": "esriImageServiceDataTypeGeneric",
 "serviceSourceType": "esriImageServiceSourceTypeDataset",
 "minValues": [
  472.67999267578125
 ],
 "maxValues": [
  671.260009765625
 ],
 "meanValues": [
  573.0134553747273
 ],
 "stdvValues": [
  36.27562892186829
 ],
 "objectIdField": "",
 "fields": [],
 "capabilities": "Image,Metadata,Mensuration",
 "defaultMosaicMethod": "Center",
 "allowedMosaicMethods": "",
 "sortField": "",
 "sortValue": null,
 "sortAscending": true,
 "mosaicOperator": "First",
 "defaultCompressionQuality": 75,
 "defaultResamplingMethod": "Bilinear",
 "maxImageHeight": 4100,
 "maxImageWidth": 15000,
 "allowRasterFunction": true,
 "rasterFunctionInfos": [
  {
   "name": "None",
   "description": "",
   "help": ""
  }
 ],
 "rasterTypeInfos": [
  {
   "name": "Raster Dataset",
   "description": "Supports all ArcGIS Raster Datasets",
   "help": ""
  }
 ],
 "mensurationCapabilities": "Basic",
 "hasHistograms": true,
 "hasColormap": false,
 "hasRasterAttributeTable": false,
 "minScale": 0,
 "maxScale": 0,
 "exportTilesAllowed": false,
 "supportsStatistics": false,
 "supportsAdvancedQueries": false,
 "editFieldsInfo": null,
 "ownershipBasedAccessControlForRasters": null,
 "allowComputeTiePoints": false,
 "useStandardizedQueries": true,
 "advancedQueryCapabilities": {
  "useStandardizedQueries": true,
  "supportsStatistics": false,
  "supportsOrderBy": false,
  "supportsDistinct": false,
  "supportsPagination": false
 },
 "spatialReference": {
  "wkid": 103159,
  "latestWkid": 6584
 }
}
