{
 "currentVersion": 10.91,
 "serviceDescription": "ORTHOS2025",
 "name": "ORTHOS2025",
 "description": "",
 "extent": {
  "xmin": 2362970.1121963114,
  "ymin": 6977273.2235117555,
  "xmax": 2388395.6121963114,
  "ymax": 7009694.2235117555,
  "spatialReference": {
   "wkid": 102738,
   "latestWkid": 2276
  }
 },
 "initialExtent": {
  "xmin": 2362970.1121963114,
  "ymin": 6977273.2235117555,
  "xmax": 2388395.6121963114,
  "ymax": 7009694.2235117555,
  "spatialReference": {
   "wkid": 102738,
   "latestWkid": 2276
  }
 },
 "fullExtent": {
  "xmin": 2362970.1121963114,
  "ymin": 6977273.2235117555,
  "xmax": 2388395.6121963114,
  "ymax": 7009694.2235117555,
  "spatialReference": {
   "wkid": 102738,
   "latestWkid": 2276
  }
 },
 "hasMultidimensions": false,
 "pixelSizeX": 0.5,
 "pixelSizeY": 0.5,
 "datasetFormat": "FGDBR",
 "uncompressedSize": 16486402710,
 "blockWidth": 128,
 "blockHeight": 128,
 "compressionType": "LZ77",
 "bandNames": [
  "Band_1",
  "Band_2",
  "Band_3",
  "Band_4",
  "Band_5"
 ],
 "allowCopy": true,
 "allowAnalysis": true,
 "bandCount": 5,
 "pixelType": "U8",
 "minPixelSize": 0,
 "maxPixelSize": 0,
 "copyrightText": "",
 "serviceDataType": "esriImageServiceDataTypeGeneric",
 "serviceSourceType": "esriImageServiceSourceTypeDataset",
 "minValues": [
  0,
  0,
  0,
  0,
  0
 ],
 "maxValues": [
  254,
  254,
  254,
  254,
  0
 ],
 "meanValues": [
  117.20806650844467,
  116.45192482505374,
  104.48305234462674,
  165.2088366653272,
  0
 ],
 "stdvValues": [
  57.40128588887927,
  53.74515289925541,
  53.365308478566746,
  40.62060739859511,
  0
 ],
 "objectIdField": "",
 "fields": [],
 "capabilities": "Image,Metadata,Mensuration",
 "defaultMosaicMethod": "Center",
 "allowedMosaicMethods": "",
 "sortField": "",
 "sortValue": null,
 "sortAscending": true,
 "mosaicOperator": "First",
 "defaultCompressionQuality": 75,
 "defaultResamplingMethod": "Bilinear",
 "maxImageHeight": 4100,
 "maxImageWidth": 15000,
 "allowRasterFunction": true,
 "rasterFunctionInfos": [
  {
   "name": "None",
   "description": "",
   "help": ""
  }
 ],
 "rasterTypeInfos": [
  {
   "name": "Raster Dataset",
   "description": "Supports all ArcGIS Raster Datasets",
   "help": ""
  }
 ],
 "mensurationCapabilities": "Basic",
 "hasHistograms": true,
 "hasColormap": false,
 "hasRasterAttributeTable": false,
 "minScale": 0,
 "maxScale": 0,
 "exportTilesAllowed": false,
 "supportsStatistics": false,
 "supportsAdvancedQueries": false,
 "editFieldsInfo": null,
 "ownershipBasedAccessControlForRasters": null,
 "allowComputeTiePoints": false,
 "useStandardizedQueries": true,
 "advancedQueryCapabilities": {
  "useStandardizedQueries": true,
  "supportsStatistics": false,
  "supportsOrderBy": false,
  "supportsDistinct": false,
  "supportsPagination": false
 },
 "spatialReference": {
  "wkid": 102738,
  "latestWkid": 2276
 }
}
