{
 "currentVersion": 10.91,
 "serviceDescription": "Raster_SDE_ORTHOS2026",
 "name": "Raster_SDE_ORTHOS2026",
 "description": "",
 "extent": {
  "xmin": 2364000.1121963114,
  "ymin": 6975999.9735117555,
  "xmax": 2388000.1121963114,
  "ymax": 7009999.9735117555,
  "spatialReference": {
   "wkid": 102738,
   "latestWkid": 2276
  }
 },
 "initialExtent": {
  "xmin": 2364000.1121963114,
  "ymin": 6975999.9735117555,
  "xmax": 2388000.1121963114,
  "ymax": 7009999.9735117555,
  "spatialReference": {
   "wkid": 102738,
   "latestWkid": 2276
  }
 },
 "fullExtent": {
  "xmin": 2364000.1121963114,
  "ymin": 6975999.9735117555,
  "xmax": 2388000.1121963114,
  "ymax": 7009999.9735117555,
  "spatialReference": {
   "wkid": 102738,
   "latestWkid": 2276
  }
 },
 "hasMultidimensions": false,
 "pixelSizeX": 0.25,
 "pixelSizeY": 0.25,
 "datasetFormat": "FGDBR",
 "uncompressedSize": 65280000000,
 "blockWidth": 128,
 "blockHeight": 128,
 "compressionType": "LZ77",
 "bandNames": [
  "Band_1",
  "Band_2",
  "Band_3",
  "Band_4",
  "Band_5"
 ],
 "allowCopy": true,
 "allowAnalysis": true,
 "bandCount": 5,
 "pixelType": "U8",
 "minPixelSize": 0,
 "maxPixelSize": 0,
 "copyrightText": "",
 "serviceDataType": "esriImageServiceDataTypeGeneric",
 "serviceSourceType": "esriImageServiceSourceTypeDataset",
 "minValues": [
  0,
  0,
  0,
  0,
  0
 ],
 "maxValues": [
  255,
  255,
  255,
  255,
  255
 ],
 "meanValues": [
  93.98448022294062,
  96.47326955795019,
  88.6861614562979,
  116.68420549533046,
  211.0344827586207
 ],
 "stdvValues": [
  67.68150318434148,
  65.62368647186663,
  61.957953491255985,
  70.86008355420255,
  96.32362218770953
 ],
 "objectIdField": "",
 "fields": [],
 "capabilities": "Image",
 "defaultMosaicMethod": "Center",
 "allowedMosaicMethods": "",
 "sortField": "",
 "sortValue": null,
 "sortAscending": true,
 "mosaicOperator": "First",
 "defaultCompressionQuality": 75,
 "defaultResamplingMethod": "Bilinear",
 "maxImageHeight": 4100,
 "maxImageWidth": 15000,
 "allowRasterFunction": true,
 "rasterFunctionInfos": [
  {
   "name": "None",
   "description": "",
   "help": ""
  }
 ],
 "rasterTypeInfos": [
  {
   "name": "Raster Dataset",
   "description": "Supports all ArcGIS Raster Datasets",
   "help": ""
  }
 ],
 "mensurationCapabilities": "Basic",
 "hasHistograms": true,
 "hasColormap": false,
 "hasRasterAttributeTable": false,
 "minScale": 0,
 "maxScale": 0,
 "exportTilesAllowed": false,
 "supportsStatistics": false,
 "supportsAdvancedQueries": false,
 "editFieldsInfo": null,
 "ownershipBasedAccessControlForRasters": null,
 "allowComputeTiePoints": false,
 "useStandardizedQueries": true,
 "advancedQueryCapabilities": {
  "useStandardizedQueries": true,
  "supportsStatistics": false,
  "supportsOrderBy": false,
  "supportsDistinct": false,
  "supportsPagination": false
 },
 "spatialReference": {
  "wkid": 102738,
  "latestWkid": 2276
 }
}
