View In:
ArcGIS JavaScript
ArcGIS Online Map Viewer
ArcGIS Earth
ArcMap
View Footprint In:
ArcGIS Online Map Viewer
Service Description: GIS_DBO_ExtractBuildHeight
Name: GIS_DBO_ExtractBuildHeight
Description:
Single Fused Map Cache: false
Extent:
XMin: 2364140.0060637975
YMin: 6978418.017804619
XMax: 2386568.0060637975
YMax: 7008970.017804619
Spatial Reference: 102738
(2276)
Initial Extent:
XMin: 2364140.0060637975
YMin: 6978418.017804619
XMax: 2386568.0060637975
YMax: 7008970.017804619
Spatial Reference: 102738
(2276)
Full Extent:
XMin: 2364140.0060637975
YMin: 6978418.017804619
XMax: 2386568.0060637975
YMax: 7008970.017804619
Spatial Reference: 102738
(2276)
Pixel Size X: 2.0
Pixel Size Y: 2.0
Band Count: 1
Pixel Type: F32
RasterFunction Infos: {"rasterFunctionInfos": [{
"name": "None",
"description": "",
"help": ""
}]}
Mensuration Capabilities: Basic
Has Histograms: true
Has Colormap: false
Has Multi Dimensions : false
Rendering Rule:
Min Scale: 0
Max Scale: 0
Copyright Text:
Service Data Type: esriImageServiceDataTypeGeneric
Min Values: -60.329986572265625
Max Values: 111.4599609375
Mean Values: 21.242376041792067
Standard Deviation Values: 11.213687889729668
Object ID Field:
Fields:
None
Default Mosaic Method: Center
Allowed Mosaic Methods:
SortField:
SortValue: null
Mosaic Operator: First
Default Compression Quality: 75
Default Resampling Method: Bilinear
Max Record Count: null
Max Image Height: 4100
Max Image Width: 15000
Max Download Image Count: null
Max Mosaic Image Count: null
Allow Raster Function: true
Allow Copy: true
Allow Analysis: true
Allow Compute TiePoints: false
Supports Statistics: false
Supports Advanced Queries: false
Use StandardizedQueries: true
Raster Type Infos:
Name: Raster Dataset
Description: Supports all ArcGIS Raster Datasets
Help:
Has Raster Attribute Table: false
Edit Fields Info: null
Ownership Based AccessControl For Rasters: null
Child Resources:
Info
Histograms
Statistics
Key Properties
Legend
Raster Function Infos
Supported Operations:
Export Image
Identify
Measure
Compute Histograms
Compute Statistics Histograms
Get Samples
Compute Class Statistics
Query Boundary
Compute Pixel Location
Compute Angles
Validate
Project