View In:
ArcGIS JavaScript
ArcGIS Online Map Viewer
ArcGIS Earth
ArcMap
View Footprint In:
ArcGIS Online Map Viewer
Service Description: HurstDepthGrid
Name: HurstDepthGrid
Description:
Single Fused Map Cache: false
Extent:
XMin: -108240.55374975139
YMin: -843115.8165135281
XMax: -101523.08936426684
YMax: -833251.22840995
Spatial Reference: 102008
(102008)
Initial Extent:
XMin: -108240.55374975139
YMin: -843115.8165135281
XMax: -101523.08936426684
YMax: -833251.22840995
Spatial Reference: 102008
(102008)
Full Extent:
XMin: -108240.55374975139
YMin: -843115.8165135281
XMax: -101523.08936426684
YMax: -833251.22840995
Spatial Reference: 102008
(102008)
Pixel Size X: 0.9819418777202966
Pixel Size Y: 0.9819418777202943
Band Count: 1
Pixel Type: F32
RasterFunction Infos: {"rasterFunctionInfos": [{
"name": "None",
"description": "",
"help": ""
}]}
Mensuration Capabilities: Basic
Has Histograms: true
Has Colormap: false
Has Multi Dimensions : false
Rendering Rule:
Min Scale: 0
Max Scale: 0
Copyright Text:
Service Data Type: esriImageServiceDataTypeGeneric
Min Values: 6.103515625E-5
Max Values: 16.057220458984375
Mean Values: 3.9143945969193994
Standard Deviation Values: 3.418005014359307
Object ID Field:
Fields:
None
Default Mosaic Method: Center
Allowed Mosaic Methods:
SortField:
SortValue: null
Mosaic Operator: First
Default Compression Quality: 75
Default Resampling Method: Bilinear
Max Record Count: null
Max Image Height: 4100
Max Image Width: 15000
Max Download Image Count: null
Max Mosaic Image Count: null
Allow Raster Function: true
Allow Copy: true
Allow Analysis: true
Allow Compute TiePoints: false
Supports Statistics: false
Supports Advanced Queries: false
Use StandardizedQueries: true
Raster Type Infos:
Name: Raster Dataset
Description: Supports all ArcGIS Raster Datasets
Help:
Has Raster Attribute Table: false
Edit Fields Info: null
Ownership Based AccessControl For Rasters: null
Child Resources:
Info
Histograms
Statistics
Key Properties
Legend
Raster Function Infos
Supported Operations:
Export Image
Identify
Measure
Compute Histograms
Compute Statistics Histograms
Get Samples
Compute Class Statistics
Query Boundary
Compute Pixel Location
Compute Angles
Validate
Project