View In:
ArcGIS JavaScript
ArcGIS Online Map Viewer
ArcGIS Earth
ArcMap
View Footprint In:
ArcGIS Online Map Viewer
Service Description: Raster_SDE_ORTHO2024
Name: Raster_SDE_ORTHO2024
Description:
Single Fused Map Cache: false
Extent:
XMin: 2364000.1121963114
YMin: 6975999.9735117555
XMax: 2388000.1121963114
YMax: 7009999.9735117555
Spatial Reference: 102738
(2276)
Initial Extent:
XMin: 2364000.1121963114
YMin: 6975999.9735117555
XMax: 2388000.1121963114
YMax: 7009999.9735117555
Spatial Reference: 102738
(2276)
Full Extent:
XMin: 2364000.1121963114
YMin: 6975999.9735117555
XMax: 2388000.1121963114
YMax: 7009999.9735117555
Spatial Reference: 102738
(2276)
Pixel Size X: 0.25
Pixel Size Y: 0.25
Band Count: 4
Pixel Type: U8
RasterFunction Infos: {"rasterFunctionInfos": [{
"name": "None",
"description": "",
"help": ""
}]}
Mensuration Capabilities: Basic
Has Histograms: true
Has Colormap: false
Has Multi Dimensions : false
Rendering Rule:
Min Scale: 0
Max Scale: 0
Copyright Text:
Service Data Type: esriImageServiceDataTypeGeneric
Min Values: 1, 1, 1, 1
Max Values: 254, 254, 254, 254
Mean Values: 96.68859831380209, 96.93619822063079, 94.27563190596065, 100.76258509219474
Standard Deviation Values: 52.158177633759664, 50.383081786866676, 49.24175037068983, 50.56601751535324
Object ID Field:
Fields:
None
Default Mosaic Method: Center
Allowed Mosaic Methods:
SortField:
SortValue: null
Mosaic Operator: First
Default Compression Quality: 75
Default Resampling Method: Bilinear
Max Record Count: null
Max Image Height: 4100
Max Image Width: 15000
Max Download Image Count: null
Max Mosaic Image Count: null
Allow Raster Function: true
Allow Copy: true
Allow Analysis: true
Allow Compute TiePoints: false
Supports Statistics: false
Supports Advanced Queries: false
Use StandardizedQueries: true
Raster Type Infos:
Name: Raster Dataset
Description: Supports all ArcGIS Raster Datasets
Help:
Has Raster Attribute Table: false
Edit Fields Info: null
Ownership Based AccessControl For Rasters: null
Child Resources:
Info
Histograms
Statistics
Key Properties
Legend
Raster Function Infos
Supported Operations:
Export Image
Identify
Measure
Compute Histograms
Compute Statistics Histograms
Get Samples
Compute Class Statistics
Query Boundary
Compute Pixel Location
Compute Angles
Validate
Project