View In:
ArcGIS JavaScript
ArcGIS Online Map Viewer
ArcGIS Earth
ArcMap
View Footprint In:
ArcGIS Online Map Viewer
Service Description: HurstDEM_2025
Name: HurstDEM_2025
Description:
Single Fused Map Cache: false
Extent:
XMin: 2364079.999999997
YMin: 6977895.999666689
XMax: 2387113.999999997
YMax: 7009003.999666689
Spatial Reference: 103159
(6584)
Initial Extent:
XMin: 2364079.999999997
YMin: 6977895.999666689
XMax: 2387113.999999997
YMax: 7009003.999666689
Spatial Reference: 103159
(6584)
Full Extent:
XMin: 2364079.999999997
YMin: 6977895.999666689
XMax: 2387113.999999997
YMax: 7009003.999666689
Spatial Reference: 103159
(6584)
Pixel Size X: 2.0
Pixel Size Y: 2.0
Band Count: 1
Pixel Type: F32
RasterFunction Infos: {"rasterFunctionInfos": [{
"name": "None",
"description": "",
"help": ""
}]}
Mensuration Capabilities: Basic
Has Histograms: true
Has Colormap: false
Has Multi Dimensions : false
Rendering Rule:
Min Scale: 0
Max Scale: 0
Copyright Text:
Service Data Type: esriImageServiceDataTypeGeneric
Min Values: 472.67999267578125
Max Values: 671.260009765625
Mean Values: 573.0134553747273
Standard Deviation Values: 36.27562892186829
Object ID Field:
Fields:
None
Default Mosaic Method: Center
Allowed Mosaic Methods:
SortField:
SortValue: null
Mosaic Operator: First
Default Compression Quality: 75
Default Resampling Method: Bilinear
Max Record Count: null
Max Image Height: 4100
Max Image Width: 15000
Max Download Image Count: null
Max Mosaic Image Count: null
Allow Raster Function: true
Allow Copy: true
Allow Analysis: true
Allow Compute TiePoints: false
Supports Statistics: false
Supports Advanced Queries: false
Use StandardizedQueries: true
Raster Type Infos:
Name: Raster Dataset
Description: Supports all ArcGIS Raster Datasets
Help:
Has Raster Attribute Table: false
Edit Fields Info: null
Ownership Based AccessControl For Rasters: null
Child Resources:
Info
Histograms
Statistics
Key Properties
Legend
Raster Function Infos
Supported Operations:
Export Image
Identify
Measure
Compute Histograms
Compute Statistics Histograms
Get Samples
Compute Class Statistics
Query Boundary
Compute Pixel Location
Compute Angles
Validate
Project