View In:
ArcGIS JavaScript
ArcGIS Online Map Viewer
ArcGIS Earth
ArcMap
View Footprint In:
ArcGIS Online Map Viewer
Service Description: ORTHOS2025
Name: ORTHOS2025
Description:
Single Fused Map Cache: false
Extent:
XMin: 2362970.1121963114
YMin: 6977273.2235117555
XMax: 2388395.6121963114
YMax: 7009694.2235117555
Spatial Reference: 102738
(2276)
Initial Extent:
XMin: 2362970.1121963114
YMin: 6977273.2235117555
XMax: 2388395.6121963114
YMax: 7009694.2235117555
Spatial Reference: 102738
(2276)
Full Extent:
XMin: 2362970.1121963114
YMin: 6977273.2235117555
XMax: 2388395.6121963114
YMax: 7009694.2235117555
Spatial Reference: 102738
(2276)
Pixel Size X: 0.5
Pixel Size Y: 0.5
Band Count: 5
Pixel Type: U8
RasterFunction Infos: {"rasterFunctionInfos": [{
"name": "None",
"description": "",
"help": ""
}]}
Mensuration Capabilities: Basic
Has Histograms: true
Has Colormap: false
Has Multi Dimensions : false
Rendering Rule:
Min Scale: 0
Max Scale: 0
Copyright Text:
Service Data Type: esriImageServiceDataTypeGeneric
Min Values: 0, 0, 0, 0, 0
Max Values: 254, 254, 254, 254, 0
Mean Values: 117.20806650844467, 116.45192482505374, 104.48305234462674, 165.2088366653272, 0
Standard Deviation Values: 57.40128588887927, 53.74515289925541, 53.365308478566746, 40.62060739859511, 0
Object ID Field:
Fields:
None
Default Mosaic Method: Center
Allowed Mosaic Methods:
SortField:
SortValue: null
Mosaic Operator: First
Default Compression Quality: 75
Default Resampling Method: Bilinear
Max Record Count: null
Max Image Height: 4100
Max Image Width: 15000
Max Download Image Count: null
Max Mosaic Image Count: null
Allow Raster Function: true
Allow Copy: true
Allow Analysis: true
Allow Compute TiePoints: false
Supports Statistics: false
Supports Advanced Queries: false
Use StandardizedQueries: true
Raster Type Infos:
Name: Raster Dataset
Description: Supports all ArcGIS Raster Datasets
Help:
Has Raster Attribute Table: false
Edit Fields Info: null
Ownership Based AccessControl For Rasters: null
Child Resources:
Info
Histograms
Statistics
Key Properties
Legend
Raster Function Infos
Supported Operations:
Export Image
Identify
Measure
Compute Histograms
Compute Statistics Histograms
Get Samples
Compute Class Statistics
Query Boundary
Compute Pixel Location
Compute Angles
Validate
Project