View In:
ArcGIS JavaScript
ArcGIS Online Map Viewer
ArcGIS Earth
ArcMap
View Footprint In:
ArcGIS Online Map Viewer
Service Description: Raster_SDE_ORTHOS2026
Name: Raster_SDE_ORTHOS2026
Description:
Single Fused Map Cache: false
Extent:
XMin: 2364000.1121963114
YMin: 6975999.9735117555
XMax: 2388000.1121963114
YMax: 7009999.9735117555
Spatial Reference: 102738
(2276)
Initial Extent:
XMin: 2364000.1121963114
YMin: 6975999.9735117555
XMax: 2388000.1121963114
YMax: 7009999.9735117555
Spatial Reference: 102738
(2276)
Full Extent:
XMin: 2364000.1121963114
YMin: 6975999.9735117555
XMax: 2388000.1121963114
YMax: 7009999.9735117555
Spatial Reference: 102738
(2276)
Pixel Size X: 0.25
Pixel Size Y: 0.25
Band Count: 5
Pixel Type: U8
RasterFunction Infos: {"rasterFunctionInfos": [{
"name": "None",
"description": "",
"help": ""
}]}
Mensuration Capabilities: Basic
Has Histograms: true
Has Colormap: false
Has Multi Dimensions : false
Rendering Rule:
Min Scale: 0
Max Scale: 0
Copyright Text:
Service Data Type: esriImageServiceDataTypeGeneric
Min Values: 0, 0, 0, 0, 0
Max Values: 255, 255, 255, 255, 255
Mean Values: 93.98448022294062, 96.47326955795019, 88.6861614562979, 116.68420549533046, 211.0344827586207
Standard Deviation Values: 67.68150318434148, 65.62368647186663, 61.957953491255985, 70.86008355420255, 96.32362218770953
Object ID Field:
Fields:
None
Default Mosaic Method: Center
Allowed Mosaic Methods:
SortField:
SortValue: null
Mosaic Operator: First
Default Compression Quality: 75
Default Resampling Method: Bilinear
Max Record Count: null
Max Image Height: 4100
Max Image Width: 15000
Max Download Image Count: null
Max Mosaic Image Count: null
Allow Raster Function: true
Allow Copy: true
Allow Analysis: true
Allow Compute TiePoints: false
Supports Statistics: false
Supports Advanced Queries: false
Use StandardizedQueries: true
Raster Type Infos:
Name: Raster Dataset
Description: Supports all ArcGIS Raster Datasets
Help:
Has Raster Attribute Table: false
Edit Fields Info: null
Ownership Based AccessControl For Rasters: null
Child Resources:
Info
Histograms
Statistics
Key Properties
Legend
Raster Function Infos
Supported Operations:
Export Image
Identify
Compute Histograms
Compute Statistics Histograms
Get Samples
Compute Class Statistics
Query Boundary
Compute Pixel Location
Compute Angles
Validate
Project